BEGIN:VCALENDAR
VERSION:2.0
PRODID:-//https://zeeland.hcc.nl///NONSGML kigkonsult.se iCalcreator 2.10.15//
METHOD:PUBLISH
BEGIN:VEVENT
UID:20260421T010921CEST-61698Us1Ch@https://zeeland.hcc.nl/
DTSTAMP:20260420T230921Z
DESCRIPTION:Flightsimulator Airliners bijeenkomst s'Heer Arendskerke https:
 //zeeland.hcc.nl/component/rseventspro/evenement/211-flightsimulator-airli
 ners-bijeenkomst?Itemid=101
DTSTART:20260702T183000Z
DTEND:20260702T210000Z
LOCATION:Dorpshuis Heer-Arendshuis (Torenring 46\, 4458 BC 's-Heer Arendske
 rke)
SUMMARY:Flightsimulator Airliners bijeenkomst
URL:https://zeeland.hcc.nl/component/rseventspro/evenement/211-flightsimula
 tor-airliners-bijeenkomst?Itemid=101
END:VEVENT
END:VCALENDAR
